BEGIN:VCALENDAR
VERSION:2.0
PRODID:-//wp-events-plugin.com//7.2.3.1//EN
TZID:America/Phoenix
X-WR-TIMEZONE:America/Phoenix
BEGIN:VEVENT
UID:109@apdmservicios.com
DTSTART;TZID=America/Phoenix:20250228T000000
DTEND;TZID=America/Phoenix:20250228T000000
DTSTAMP:20250212T165952Z
URL:https://apdmservicios.com/eventos/gran-cena
SUMMARY:Gran Cena
DESCRIPTION:Te Invitamos a esta Cena
CATEGORIES:Niños
LOCATION:Iglesia Apdm\, 3875 N 28th Ave\, Phoenix\, az\, 85017\, Estados Un
 idos
GEO:33.492664;-112.118402
X-APPLE-STRUCTURED-LOCATION;VALUE=URI;X-ADDRESS=3875 N 28th Ave\, Phoenix\,
  az\, 85017\, Estados Unidos;X-APPLE-RADIUS=100;X-TITLE=Iglesia Apdm:geo:3
 3.492664,-112.118402
END:VEVENT
BEGIN:VTIMEZONE
TZID:America/Phoenix
X-LIC-LOCATION:America/Phoenix
BEGIN:STANDARD
DTSTART:20240229T000000
TZOFFSETFROM:-0700
TZOFFSETTO:-0700
TZNAME:MST
END:STANDARD
END:VTIMEZONE
END:VCALENDAR