BEGIN:VCALENDAR
VERSION:2.0
PRODID:-//wp-events-plugin.com//7.2.3.1//EN
TZID:America/Phoenix
X-WR-TIMEZONE:America/Phoenix
BEGIN:VEVENT
UID:110@apdmservicios.com
DTSTART;TZID=America/Phoenix:20250215T100000
DTEND;TZID=America/Phoenix:20250215T130000
DTSTAMP:20250214T055012Z
URL:https://apdmservicios.com/eventos/clase-y-desayuno-para-nuevos-miembro
 s
SUMMARY:Clase y Desayuno para Nuevos Miembros
DESCRIPTION:Si has sido parte de nuestra congregación por 4 años o menos 
 te invitamos a un desayuno para conocerles y darles un poco mas de informa
 ción sobre nosotros y nuestra congregación.\n\nLes esperamos a las 10 de
  la mañana\; no tiene ningún costo.\n\nVen con tu familia\; queremos con
 ocerles! Si puedes anotarte seria perfecto\, asi podemos prepararnos mejor
 !\nHermanos miembros si conocen a alguien que es nuevo favor dejarle saber
  para que nos acompañe el Sábado
ATTACH;FMTTYPE=image/jpeg:https://apdmservicios.com/wp-content/uploads/202
 5/02/Nuevos-Miembros.jpeg
CATEGORIES:Iglesia General
LOCATION:Iglesia Apdm\, 3875 N 28th Ave\, Phoenix\, az\, 85017\, Estados Un
 idos
GEO:33.492664;-112.118402
X-APPLE-STRUCTURED-LOCATION;VALUE=URI;X-ADDRESS=3875 N 28th Ave\, Phoenix\,
  az\, 85017\, Estados Unidos;X-APPLE-RADIUS=100;X-TITLE=Iglesia Apdm:geo:3
 3.492664,-112.118402
END:VEVENT
BEGIN:VTIMEZONE
TZID:America/Phoenix
X-LIC-LOCATION:America/Phoenix
BEGIN:STANDARD
DTSTART:20240216T100000
TZOFFSETFROM:-0700
TZOFFSETTO:-0700
TZNAME:MST
END:STANDARD
END:VTIMEZONE
END:VCALENDAR